BEGIN:VCALENDAR
VERSION:2.0
PRODID:-//Laufsport im SC DHfK Leipzig e.V. - ECPv6.15.20//NONSGML v1.0//EN
CALSCALE:GREGORIAN
METHOD:PUBLISH
X-WR-CALNAME:Laufsport im SC DHfK Leipzig e.V.
X-ORIGINAL-URL:https://scdhfk-laufsport.de
X-WR-CALDESC:Veranstaltungen für Laufsport im SC DHfK Leipzig e.V.
REFRESH-INTERVAL;VALUE=DURATION:PT1H
X-Robots-Tag:noindex
X-PUBLISHED-TTL:PT1H
BEGIN:VTIMEZONE
TZID:Europe/Berlin
BEGIN:DAYLIGHT
TZOFFSETFROM:+0100
TZOFFSETTO:+0200
TZNAME:CEST
DTSTART:20250330T010000
END:DAYLIGHT
BEGIN:STANDARD
TZOFFSETFROM:+0200
TZOFFSETTO:+0100
TZNAME:CET
DTSTART:20251026T010000
END:STANDARD
BEGIN:DAYLIGHT
TZOFFSETFROM:+0100
TZOFFSETTO:+0200
TZNAME:CEST
DTSTART:20260329T010000
END:DAYLIGHT
BEGIN:STANDARD
TZOFFSETFROM:+0200
TZOFFSETTO:+0100
TZNAME:CET
DTSTART:20261025T010000
END:STANDARD
BEGIN:DAYLIGHT
TZOFFSETFROM:+0100
TZOFFSETTO:+0200
TZNAME:CEST
DTSTART:20270328T010000
END:DAYLIGHT
BEGIN:STANDARD
TZOFFSETFROM:+0200
TZOFFSETTO:+0100
TZNAME:CET
DTSTART:20271031T010000
END:STANDARD
END:VTIMEZONE
BEGIN:VEVENT
DTSTART;VALUE=DATE:20260425
DTEND;VALUE=DATE:20260427
DTSTAMP:20260426T020432
CREATED:20231218T211455Z
LAST-MODIFIED:20251127T144359Z
UID:6395-1777075200-1777247999@scdhfk-laufsport.de
SUMMARY:52. Zittauer Gebirgslauf
DESCRIPTION:
URL:https://scdhfk-laufsport.de/veranstaltung/zittauer-gebirgslauf/
LOCATION:Sportzentrum Olbersdorf\, Ludwig-Jahn-Str. 65\, Olbersdorf\, 02785\, Deutschland
END:VEVENT
BEGIN:VEVENT
DTSTART;VALUE=DATE:20260426
DTEND;VALUE=DATE:20260427
DTSTAMP:20260426T020432
CREATED:20231212T224136Z
LAST-MODIFIED:20251119T222644Z
UID:6332-1777161600-1777247999@scdhfk-laufsport.de
SUMMARY:27. VVO Oberelbe Marathon
DESCRIPTION:
URL:https://scdhfk-laufsport.de/veranstaltung/vvo-oberelbe-marathon/
LOCATION:Sportpark Ostra\, Magdeburger Str. 10\, Dresden\, 01067\, Deutschland
END:VEVENT
BEGIN:VEVENT
DTSTART;VALUE=DATE:20260426
DTEND;VALUE=DATE:20260427
DTSTAMP:20260426T020432
CREATED:20231218T211102Z
LAST-MODIFIED:20251119T225021Z
UID:6392-1777161600-1777247999@scdhfk-laufsport.de
SUMMARY:21. Darß Marathon
DESCRIPTION:
URL:https://scdhfk-laufsport.de/veranstaltung/darss-marathon/
LOCATION:Wieck a. Darß\, Darßer Arche\, Wieck a. Darß\, 18375\, Deutschland
END:VEVENT
BEGIN:VEVENT
DTSTART;VALUE=DATE:20260426
DTEND;VALUE=DATE:20260427
DTSTAMP:20260426T020432
CREATED:20250201T005025Z
LAST-MODIFIED:20260119T215348Z
UID:8270-1777161600-1777247999@scdhfk-laufsport.de
SUMMARY:30. Drängberglauf Leubsdorf
DESCRIPTION:
URL:https://scdhfk-laufsport.de/veranstaltung/draengberglauf-leubsdorf/
LOCATION:Leubsdorf Fußballplatz\, Borstendorfer Straße\, Leubsdorf\, 09573
END:VEVENT
END:VCALENDAR